BEGIN:VCALENDAR
VERSION:2.0
PRODID:-//Eventin//Event Calendar//EN
CALSCALE:GREGORIAN
METHOD:PUBLISH
BEGIN:VEVENT
UID:f11ac256e827b657c0c397851ef410c1@bezirkdietikon.grunliberale.ch
SUMMARY:MV GLP Dietikon
DESCRIPTION:save the date
LOCATION:Bezirk Dietikon
DTSTAMP:20260424T104337Z
DTSTART:20260605T170000Z
DTEND:20260605T190000Z
END:VEVENT
END:VCALENDAR
